BEGIN:VCALENDAR
VERSION:2.0
PRODID:-//Karas on Crime - ECPv6.15.17//NONSGML v1.0//EN
CALSCALE:GREGORIAN
METHOD:PUBLISH
X-ORIGINAL-URL:https://www.karasoncrime.com
X-WR-CALDESC:Events for Karas on Crime
REFRESH-INTERVAL;VALUE=DURATION:PT1H
X-Robots-Tag:noindex
X-PUBLISHED-TTL:PT1H
BEGIN:VTIMEZONE
TZID:America/New_York
BEGIN:DAYLIGHT
TZOFFSETFROM:-0500
TZOFFSETTO:-0400
TZNAME:EDT
DTSTART:20160313T070000
END:DAYLIGHT
BEGIN:STANDARD
TZOFFSETFROM:-0400
TZOFFSETTO:-0500
TZNAME:EST
DTSTART:20161106T060000
END:STANDARD
BEGIN:DAYLIGHT
TZOFFSETFROM:-0500
TZOFFSETTO:-0400
TZNAME:EDT
DTSTART:20170312T070000
END:DAYLIGHT
BEGIN:STANDARD
TZOFFSETFROM:-0400
TZOFFSETTO:-0500
TZNAME:EST
DTSTART:20171105T060000
END:STANDARD
BEGIN:DAYLIGHT
TZOFFSETFROM:-0500
TZOFFSETTO:-0400
TZNAME:EDT
DTSTART:20180311T070000
END:DAYLIGHT
BEGIN:STANDARD
TZOFFSETFROM:-0400
TZOFFSETTO:-0500
TZNAME:EST
DTSTART:20181104T060000
END:STANDARD
END:VTIMEZONE
BEGIN:VEVENT
DTSTART;TZID=America/New_York:20171002T090000
DTEND;TZID=America/New_York:20171002T170000
DTSTAMP:20260423T025858
CREATED:20170725T181015Z
LAST-MODIFIED:20170725T181015Z
UID:51168-1506934800-1506963600@www.karasoncrime.com
SUMMARY:Second Slenderman Trial
DESCRIPTION:The trial of Morgan Geyser\, accused of attempted first degree murder\, for stabbing a friend 19 times in order to please a fictional\, online character known the “Slenderman” is scheduled to begin today. Co-defendant Anissa Weier’s trial was scheduled for September 11 in Waukesha County\, Wisconsin. Both girls were 12 when they stabbed Payton Leutner. Leutner has recovered from her injuries. The defendants are being tried as adults.
URL:https://www.karasoncrime.com/calendar/second-slenderman-trial/
END:VEVENT
BEGIN:VEVENT
DTSTART;TZID=America/New_York:20171009T090000
DTEND;TZID=America/New_York:20171009T170000
DTSTAMP:20260423T025858
CREATED:20170527T141319Z
LAST-MODIFIED:20170527T141319Z
UID:44895-1507539600-1507568400@www.karasoncrime.com
SUMMARY:Trial of Man Accused of Killing Jessica Chambers
DESCRIPTION:A man accused of murdering Jessica Chambers\, 19\, by setting her car on fire in December 2014 in Mississippi\, is scheduled for trial today. Quinton Tellis faces capital murder charges. He was indicted in February 2016.
URL:https://www.karasoncrime.com/calendar/trial-of-man-accused-of-killing-jessica-chambers/
END:VEVENT
BEGIN:VEVENT
DTSTART;TZID=America/New_York:20171017T090000
DTEND;TZID=America/New_York:20171017T170000
DTSTAMP:20260423T025858
CREATED:20170211T193511Z
LAST-MODIFIED:20170211T193511Z
UID:43091-1508230800-1508259600@www.karasoncrime.com
SUMMARY:Robert Durst Preliminary Hearing
DESCRIPTION:Durst is scheduled to be in court for a preliminary hearing. The prosecution is expected to present enough evidence to establish probable cause that Durst murdered his friend\, Susan Berman\, in December 2000. If the evidence is sufficient\, Durst will be bound over for trial.
URL:https://www.karasoncrime.com/calendar/robert-durst-preliminary-hearing/
END:VEVENT
END:VCALENDAR