BEGIN:VCALENDAR
VERSION:2.0
PRODID:-//Karas on Crime - ECPv6.15.17//NONSGML v1.0//EN
CALSCALE:GREGORIAN
METHOD:PUBLISH
X-ORIGINAL-URL:https://www.karasoncrime.com
X-WR-CALDESC:Events for Karas on Crime
REFRESH-INTERVAL;VALUE=DURATION:PT1H
X-Robots-Tag:noindex
X-PUBLISHED-TTL:PT1H
BEGIN:VTIMEZONE
TZID:America/New_York
BEGIN:DAYLIGHT
TZOFFSETFROM:-0500
TZOFFSETTO:-0400
TZNAME:EDT
DTSTART:20160313T070000
END:DAYLIGHT
BEGIN:STANDARD
TZOFFSETFROM:-0400
TZOFFSETTO:-0500
TZNAME:EST
DTSTART:20161106T060000
END:STANDARD
BEGIN:DAYLIGHT
TZOFFSETFROM:-0500
TZOFFSETTO:-0400
TZNAME:EDT
DTSTART:20170312T070000
END:DAYLIGHT
BEGIN:STANDARD
TZOFFSETFROM:-0400
TZOFFSETTO:-0500
TZNAME:EST
DTSTART:20171105T060000
END:STANDARD
BEGIN:DAYLIGHT
TZOFFSETFROM:-0500
TZOFFSETTO:-0400
TZNAME:EDT
DTSTART:20180311T070000
END:DAYLIGHT
BEGIN:STANDARD
TZOFFSETFROM:-0400
TZOFFSETTO:-0500
TZNAME:EST
DTSTART:20181104T060000
END:STANDARD
END:VTIMEZONE
BEGIN:VEVENT
DTSTART;TZID=America/New_York:20170801T090000
DTEND;TZID=America/New_York:20170801T170000
DTSTAMP:20260423T065135
CREATED:20170301T020713Z
LAST-MODIFIED:20170725T195516Z
UID:43437-1501578000-1501606800@www.karasoncrime.com
SUMMARY:Jody Herring Trial
DESCRIPTION:UPDATE: Herring pled guilty to murder on July 6\, 2017. She faces a minimum of 55 years in prison. A sentencing hearing that could last up to five days may take place in October. (This was a tentative trial date for Herring\, accused of murdering a social worker and three relatives in Vermont.)
URL:https://www.karasoncrime.com/calendar/jody-herring-trial/
END:VEVENT
BEGIN:VEVENT
DTSTART;TZID=America/New_York:20170803T090000
DTEND;TZID=America/New_York:20170803T170000
DTSTAMP:20260423T065135
CREATED:20170619T185835Z
LAST-MODIFIED:20170619T185835Z
UID:45314-1501750800-1501779600@www.karasoncrime.com
SUMMARY:Michelle Carter Sentencing
DESCRIPTION:Michelle Carter is to be sentenced today. She faces up to 20 years. On June 16\, 2017\, a Massachusetts judge convicted 20-year-old Michelle Carter of involuntary manslaughter for encouraging her boyfriend\, Conrad Roy III\, to commit suicide by carbon monoxide poisoning. The encouragement was via text messages. Carter waived her right to trial by jury and opted for the judge to decide.
URL:https://www.karasoncrime.com/calendar/michelle-carter-sentencing/
END:VEVENT
BEGIN:VEVENT
DTSTART;TZID=America/New_York:20170810T083000
DTEND;TZID=America/New_York:20170810T170000
DTSTAMP:20260423T065135
CREATED:20170726T024837Z
LAST-MODIFIED:20170726T024837Z
UID:51390-1502353800-1502384400@www.karasoncrime.com
SUMMARY:PSU Hazing Death Preliminary Hearing Continued
DESCRIPTION:The preliminary hearing against a Penn State University fraternity and 18 students for the hazing death of a student last February continues today and into tomorrow\, if necessary. The hearing was begun in June and adjourned to today.
URL:https://www.karasoncrime.com/calendar/psu-hazing-death-preliminary-hearing-continued/
END:VEVENT
BEGIN:VEVENT
DTSTART;TZID=America/New_York:20170815T090000
DTEND;TZID=America/New_York:20170815T170000
DTSTAMP:20260423T065135
CREATED:20170527T123013Z
LAST-MODIFIED:20170726T025739Z
UID:44877-1502787600-1502816400@www.karasoncrime.com
SUMMARY:Angelika Graswald Trial (Death on the Hudson)
DESCRIPTION:The second-degree murder trial of Angelika Graswald was scheduled to begin today. She was accused of letting her fiance drown in the Hudson River when his kayak took on water. Did she intentionally not assist him so he wouldn’t drown? The State says she admitted to acts that created a risk to Vincent Viafore’s life but the defense says she made false admissions. Viafore drowned on April 19\, 2015. His body was found more than a month later in the Hudson River in update New York State. If convicted\, Graswald faced 25 years to life in prison. UPDATE: On July 24\, 2017\, Graswald pled guilty to criminally negligent homicide\, a low level felony that carried 1-1/3 to 4 years in prison. She should be out by December.
URL:https://www.karasoncrime.com/calendar/angelika-graswald-trial-death-on-the-hudson/
END:VEVENT
END:VCALENDAR