BEGIN:VCALENDAR
VERSION:2.0
PRODID:-//Karas on Crime - ECPv6.15.17//NONSGML v1.0//EN
CALSCALE:GREGORIAN
METHOD:PUBLISH
X-WR-CALNAME:Karas on Crime
X-ORIGINAL-URL:https://www.karasoncrime.com
X-WR-CALDESC:Events for Karas on Crime
REFRESH-INTERVAL;VALUE=DURATION:PT1H
X-Robots-Tag:noindex
X-PUBLISHED-TTL:PT1H
BEGIN:VTIMEZONE
TZID:America/New_York
BEGIN:DAYLIGHT
TZOFFSETFROM:-0500
TZOFFSETTO:-0400
TZNAME:EDT
DTSTART:20160313T070000
END:DAYLIGHT
BEGIN:STANDARD
TZOFFSETFROM:-0400
TZOFFSETTO:-0500
TZNAME:EST
DTSTART:20161106T060000
END:STANDARD
BEGIN:DAYLIGHT
TZOFFSETFROM:-0500
TZOFFSETTO:-0400
TZNAME:EDT
DTSTART:20170312T070000
END:DAYLIGHT
BEGIN:STANDARD
TZOFFSETFROM:-0400
TZOFFSETTO:-0500
TZNAME:EST
DTSTART:20171105T060000
END:STANDARD
BEGIN:DAYLIGHT
TZOFFSETFROM:-0500
TZOFFSETTO:-0400
TZNAME:EDT
DTSTART:20180311T070000
END:DAYLIGHT
BEGIN:STANDARD
TZOFFSETFROM:-0400
TZOFFSETTO:-0500
TZNAME:EST
DTSTART:20181104T060000
END:STANDARD
END:VTIMEZONE
BEGIN:VEVENT
DTSTART;TZID=America/New_York:20170710T090000
DTEND;TZID=America/New_York:20170710T170000
DTSTAMP:20260423T144732
CREATED:20161116T022114Z
LAST-MODIFIED:20170707T032543Z
UID:41567-1499677200-1499706000@www.karasoncrime.com
SUMMARY:First Trial in Holly Bobo Murder
DESCRIPTION:The trial of Zachary Adams\, the first of three men accused of murdering Holly Bobo in 2011 in Tennessee\, was scheduled to begin today. It has been rescheduled for September 11\, 2017.
URL:https://www.karasoncrime.com/calendar/second-trial-in-holly-bobo-murder/
END:VEVENT
BEGIN:VEVENT
DTSTART;TZID=America/New_York:20170714T083000
DTEND;TZID=America/New_York:20170714T120000
DTSTAMP:20260423T144732
CREATED:20170527T135343Z
LAST-MODIFIED:20170527T135343Z
UID:44888-1500021000-1500033600@www.karasoncrime.com
SUMMARY:Mark Sievers/Jimmy Rodgers Hearing
DESCRIPTION:A case management hearing is scheduled for today at 8:30 am in Fort Myers\, FL (Lee County) in the capital murder case of Mark Sievers\, accused of hiring Jimmy Rodgers and Curtis Wayne Wright to murder his wife Teresa\, a popular physician in the community.
URL:https://www.karasoncrime.com/calendar/mark-sieversjimmy-rodgers-hearing/
END:VEVENT
BEGIN:VEVENT
DTSTART;TZID=America/New_York:20170717T140000
DTEND;TZID=America/New_York:20170717T170000
DTSTAMP:20260423T144732
CREATED:20170621T002216Z
LAST-MODIFIED:20170621T002647Z
UID:45323-1500300000-1500310800@www.karasoncrime.com
SUMMARY:Angelika Graswald Pretrial Conference
DESCRIPTION:Graswald is charged with second degree murder for the drowning death of her fiance Vince Viafore on April 19\, 2015 while the couple was kayaking on the Hudson River in New York. This could be the final pretrial conference before her August 15\, 2017 trial.
URL:https://www.karasoncrime.com/calendar/angelika-graswald-pretrial-hearing/
END:VEVENT
BEGIN:VEVENT
DTSTART;TZID=America/New_York:20170721T090000
DTEND;TZID=America/New_York:20170721T170000
DTSTAMP:20260423T144732
CREATED:20170707T033737Z
LAST-MODIFIED:20170707T033737Z
UID:45585-1500627600-1500656400@www.karasoncrime.com
SUMMARY:Dalia Dippolito Sentencing
DESCRIPTION:Dalia Dippolito faces up to 30 years in prison for hiring a hitman to kill her husband. She is scheduled to be sentenced today.
URL:https://www.karasoncrime.com/calendar/dalia-dippolito-sentencing/
END:VEVENT
BEGIN:VEVENT
DTSTART;TZID=America/New_York:20170724T090000
DTEND;TZID=America/New_York:20170724T170000
DTSTAMP:20260423T144732
CREATED:20170527T125223Z
LAST-MODIFIED:20170527T125223Z
UID:44885-1500886800-1500915600@www.karasoncrime.com
SUMMARY:Robert Durst Hearing
DESCRIPTION:More witnesses will testify in a pretrial hearing in Robert Durst’s murder case in Los Angeles. Durst is accused of fatally shooting his close friend Susan Berman allegedly to silence her from speaking to authorities about the disappearance of his first wife Kathleen in 1982.
URL:https://www.karasoncrime.com/calendar/robert-durst-hearing-3/
END:VEVENT
END:VCALENDAR