BEGIN:VCALENDAR
VERSION:2.0
PRODID:-//Karas on Crime - ECPv6.15.17//NONSGML v1.0//EN
CALSCALE:GREGORIAN
METHOD:PUBLISH
X-WR-CALNAME:Karas on Crime
X-ORIGINAL-URL:https://www.karasoncrime.com
X-WR-CALDESC:Events for Karas on Crime
REFRESH-INTERVAL;VALUE=DURATION:PT1H
X-Robots-Tag:noindex
X-PUBLISHED-TTL:PT1H
BEGIN:VTIMEZONE
TZID:America/New_York
BEGIN:DAYLIGHT
TZOFFSETFROM:-0500
TZOFFSETTO:-0400
TZNAME:EDT
DTSTART:20130310T070000
END:DAYLIGHT
BEGIN:STANDARD
TZOFFSETFROM:-0400
TZOFFSETTO:-0500
TZNAME:EST
DTSTART:20131103T060000
END:STANDARD
BEGIN:DAYLIGHT
TZOFFSETFROM:-0500
TZOFFSETTO:-0400
TZNAME:EDT
DTSTART:20140309T070000
END:DAYLIGHT
BEGIN:STANDARD
TZOFFSETFROM:-0400
TZOFFSETTO:-0500
TZNAME:EST
DTSTART:20141102T060000
END:STANDARD
BEGIN:DAYLIGHT
TZOFFSETFROM:-0500
TZOFFSETTO:-0400
TZNAME:EDT
DTSTART:20150308T070000
END:DAYLIGHT
BEGIN:STANDARD
TZOFFSETFROM:-0400
TZOFFSETTO:-0500
TZNAME:EST
DTSTART:20151101T060000
END:STANDARD
END:VTIMEZONE
BEGIN:VEVENT
DTSTART;VALUE=DATE:20141104
DTEND;VALUE=DATE:20141105
DTSTAMP:20260422T175434
CREATED:20141030T143148Z
LAST-MODIFIED:20141030T143148Z
UID:2619-1415059200-1415145599@www.karasoncrime.com
SUMMARY:Trial canceled/hearing in afternoon
DESCRIPTION:
URL:https://www.karasoncrime.com/calendar/trial-day-6/
CATEGORIES:Jodi Trial
END:VEVENT
BEGIN:VEVENT
DTSTART;VALUE=DATE:20141103
DTEND;VALUE=DATE:20141104
DTSTAMP:20260422T175434
CREATED:20141030T143053Z
LAST-MODIFIED:20141030T143053Z
UID:2618-1414972800-1415059199@www.karasoncrime.com
SUMMARY:Trial canceled/argument in Court of Appeals
DESCRIPTION:
URL:https://www.karasoncrime.com/calendar/trial-day-5/
CATEGORIES:Jodi Trial
END:VEVENT
BEGIN:VEVENT
DTSTART;VALUE=DATE:20141031
DTEND;VALUE=DATE:20141101
DTSTAMP:20260422T175434
CREATED:20141030T140729Z
LAST-MODIFIED:20141030T140729Z
UID:2595-1414713600-1414799999@www.karasoncrime.com
SUMMARY:Dark Day/hearing on motion for stay
DESCRIPTION:
URL:https://www.karasoncrime.com/calendar/dark-day/
CATEGORIES:Jodi Trial
END:VEVENT
BEGIN:VEVENT
DTSTART;VALUE=DATE:20141030
DTEND;VALUE=DATE:20141031
DTSTAMP:20260422T175434
CREATED:20141030T140813Z
LAST-MODIFIED:20141030T140813Z
UID:2596-1414627200-1414713599@www.karasoncrime.com
SUMMARY:Trial - Day 6
DESCRIPTION:
URL:https://www.karasoncrime.com/calendar/trial/
CATEGORIES:Jodi Trial
END:VEVENT
BEGIN:VEVENT
DTSTART;VALUE=DATE:20141029
DTEND;VALUE=DATE:20141030
DTSTAMP:20260422T175434
CREATED:20141030T141014Z
LAST-MODIFIED:20141030T141014Z
UID:2597-1414540800-1414627199@www.karasoncrime.com
SUMMARY:Dark Day
DESCRIPTION:
URL:https://www.karasoncrime.com/calendar/dark-day-2/
CATEGORIES:Jodi Trial
END:VEVENT
BEGIN:VEVENT
DTSTART;VALUE=DATE:20141028
DTEND;VALUE=DATE:20141029
DTSTAMP:20260422T175434
CREATED:20141030T142907Z
LAST-MODIFIED:20141030T142907Z
UID:2617-1414454400-1414540799@www.karasoncrime.com
SUMMARY:Trial - Day 5
DESCRIPTION:
URL:https://www.karasoncrime.com/calendar/trial-day-4/
CATEGORIES:Jodi Trial
END:VEVENT
BEGIN:VEVENT
DTSTART;VALUE=DATE:20141027
DTEND;VALUE=DATE:20141028
DTSTAMP:20260422T175434
CREATED:20141030T142827Z
LAST-MODIFIED:20141030T142827Z
UID:2616-1414368000-1414454399@www.karasoncrime.com
SUMMARY:Trial - Day 4
DESCRIPTION:
URL:https://www.karasoncrime.com/calendar/trial-day-3/
CATEGORIES:Jodi Trial
END:VEVENT
BEGIN:VEVENT
DTSTART;VALUE=DATE:20141024
DTEND;VALUE=DATE:20141025
DTSTAMP:20260422T175434
CREATED:20141030T142733Z
LAST-MODIFIED:20141030T142733Z
UID:2615-1414108800-1414195199@www.karasoncrime.com
SUMMARY:Dark Day
DESCRIPTION:
URL:https://www.karasoncrime.com/calendar/dark-day-11/
CATEGORIES:Jodi Trial
END:VEVENT
BEGIN:VEVENT
DTSTART;VALUE=DATE:20141023
DTEND;VALUE=DATE:20141024
DTSTAMP:20260422T175434
CREATED:20141030T142651Z
LAST-MODIFIED:20141030T142651Z
UID:2614-1414022400-1414108799@www.karasoncrime.com
SUMMARY:Trial - Day 3
DESCRIPTION:
URL:https://www.karasoncrime.com/calendar/trial-day-2/
CATEGORIES:Jodi Trial
END:VEVENT
BEGIN:VEVENT
DTSTART;VALUE=DATE:20141022
DTEND;VALUE=DATE:20141023
DTSTAMP:20260422T175434
CREATED:20141030T142233Z
LAST-MODIFIED:20141030T142233Z
UID:2613-1413936000-1414022399@www.karasoncrime.com
SUMMARY:Trial - Day 2
DESCRIPTION:
URL:https://www.karasoncrime.com/calendar/trial-day/
CATEGORIES:Jodi Trial
END:VEVENT
BEGIN:VEVENT
DTSTART;VALUE=DATE:20141021
DTEND;VALUE=DATE:20141022
DTSTAMP:20260422T175434
CREATED:20141030T142137Z
LAST-MODIFIED:20141030T142137Z
UID:2612-1413849600-1413935999@www.karasoncrime.com
SUMMARY:Trial - Day 1
DESCRIPTION:
URL:https://www.karasoncrime.com/calendar/trial-2/
CATEGORIES:Jodi Trial
END:VEVENT
BEGIN:VEVENT
DTSTART;VALUE=DATE:20141020
DTEND;VALUE=DATE:20141021
DTSTAMP:20260422T175434
CREATED:20141030T142054Z
LAST-MODIFIED:20141030T142054Z
UID:2611-1413763200-1413849599@www.karasoncrime.com
SUMMARY:Dark Day
DESCRIPTION:
URL:https://www.karasoncrime.com/calendar/dark-day-10/
CATEGORIES:Jodi Trial
END:VEVENT
BEGIN:VEVENT
DTSTART;VALUE=DATE:20141017
DTEND;VALUE=DATE:20141018
DTSTAMP:20260422T175434
CREATED:20141030T142026Z
LAST-MODIFIED:20141030T142026Z
UID:2610-1413504000-1413590399@www.karasoncrime.com
SUMMARY:Dark Day
DESCRIPTION:
URL:https://www.karasoncrime.com/calendar/dark-day-9/
CATEGORIES:Jodi Trial
END:VEVENT
BEGIN:VEVENT
DTSTART;VALUE=DATE:20141016
DTEND;VALUE=DATE:20141017
DTSTAMP:20260422T175434
CREATED:20141030T141950Z
LAST-MODIFIED:20141030T141950Z
UID:2609-1413417600-1413503999@www.karasoncrime.com
SUMMARY:Dark Day
DESCRIPTION:
URL:https://www.karasoncrime.com/calendar/dark-day-8/
CATEGORIES:Jodi Trial
END:VEVENT
BEGIN:VEVENT
DTSTART;VALUE=DATE:20141015
DTEND;VALUE=DATE:20141016
DTSTAMP:20260422T175434
CREATED:20141030T141752Z
LAST-MODIFIED:20141030T141752Z
UID:2608-1413331200-1413417599@www.karasoncrime.com
SUMMARY:Dark Day
DESCRIPTION:
URL:https://www.karasoncrime.com/calendar/dark-day-7/
CATEGORIES:Jodi Trial
END:VEVENT
BEGIN:VEVENT
DTSTART;VALUE=DATE:20141014
DTEND;VALUE=DATE:20141015
DTSTAMP:20260422T175434
CREATED:20141030T141719Z
LAST-MODIFIED:20141030T141719Z
UID:2607-1413244800-1413331199@www.karasoncrime.com
SUMMARY:Dark Day
DESCRIPTION:
URL:https://www.karasoncrime.com/calendar/dark-day-6/
CATEGORIES:Jodi Trial
END:VEVENT
BEGIN:VEVENT
DTSTART;VALUE=DATE:20141013
DTEND;VALUE=DATE:20141014
DTSTAMP:20260422T175434
CREATED:20141030T141646Z
LAST-MODIFIED:20141030T141646Z
UID:2606-1413158400-1413244799@www.karasoncrime.com
SUMMARY:Dark Day
DESCRIPTION:
URL:https://www.karasoncrime.com/calendar/dark-day-5/
CATEGORIES:Jodi Trial
END:VEVENT
BEGIN:VEVENT
DTSTART;VALUE=DATE:20141010
DTEND;VALUE=DATE:20141011
DTSTAMP:20260422T175434
CREATED:20141030T141611Z
LAST-MODIFIED:20141030T141611Z
UID:2605-1412899200-1412985599@www.karasoncrime.com
SUMMARY:Dark Day
DESCRIPTION:
URL:https://www.karasoncrime.com/calendar/dark-day-4/
CATEGORIES:Jodi Trial
END:VEVENT
BEGIN:VEVENT
DTSTART;VALUE=DATE:20141009
DTEND;VALUE=DATE:20141010
DTSTAMP:20260422T175434
CREATED:20141030T141525Z
LAST-MODIFIED:20141030T141525Z
UID:2604-1412812800-1412899199@www.karasoncrime.com
SUMMARY:Dark Day
DESCRIPTION:
URL:https://www.karasoncrime.com/calendar/dark-day-3/
CATEGORIES:Jodi Trial
END:VEVENT
BEGIN:VEVENT
DTSTART;VALUE=DATE:20141008
DTEND;VALUE=DATE:20141009
DTSTAMP:20260422T175434
CREATED:20141030T141419Z
LAST-MODIFIED:20141030T141419Z
UID:2603-1412726400-1412812799@www.karasoncrime.com
SUMMARY:Jury selection
DESCRIPTION:
URL:https://www.karasoncrime.com/calendar/jury-selection-8/
CATEGORIES:Jodi Trial
END:VEVENT
BEGIN:VEVENT
DTSTART;VALUE=DATE:20141007
DTEND;VALUE=DATE:20141008
DTSTAMP:20260422T175434
CREATED:20141030T141346Z
LAST-MODIFIED:20141030T141346Z
UID:2602-1412640000-1412726399@www.karasoncrime.com
SUMMARY:Jury selection
DESCRIPTION:
URL:https://www.karasoncrime.com/calendar/jury-selection-7/
CATEGORIES:Jodi Trial
END:VEVENT
BEGIN:VEVENT
DTSTART;VALUE=DATE:20141006
DTEND;VALUE=DATE:20141007
DTSTAMP:20260422T175434
CREATED:20141030T141314Z
LAST-MODIFIED:20141030T141314Z
UID:2601-1412553600-1412639999@www.karasoncrime.com
SUMMARY:Jury selection
DESCRIPTION:
URL:https://www.karasoncrime.com/calendar/jury-selection-6/
CATEGORIES:Jodi Trial
END:VEVENT
BEGIN:VEVENT
DTSTART;VALUE=DATE:20141002
DTEND;VALUE=DATE:20141003
DTSTAMP:20260422T175434
CREATED:20141030T141213Z
LAST-MODIFIED:20141030T141213Z
UID:2600-1412208000-1412294399@www.karasoncrime.com
SUMMARY:Jury selection
DESCRIPTION:
URL:https://www.karasoncrime.com/calendar/jury-selection-5/
CATEGORIES:Jodi Trial
END:VEVENT
BEGIN:VEVENT
DTSTART;VALUE=DATE:20141001
DTEND;VALUE=DATE:20141002
DTSTAMP:20260422T175434
CREATED:20141030T141142Z
LAST-MODIFIED:20141030T141142Z
UID:2599-1412121600-1412207999@www.karasoncrime.com
SUMMARY:Jury selection
DESCRIPTION:
URL:https://www.karasoncrime.com/calendar/jury-selection-4/
CATEGORIES:Jodi Trial
END:VEVENT
BEGIN:VEVENT
DTSTART;VALUE=DATE:20140929
DTEND;VALUE=DATE:20140930
DTSTAMP:20260422T175434
CREATED:20141030T141113Z
LAST-MODIFIED:20141030T141113Z
UID:2598-1411948800-1412035199@www.karasoncrime.com
SUMMARY:Jury selection
DESCRIPTION:
URL:https://www.karasoncrime.com/calendar/jury-selection-3/
CATEGORIES:Jodi Trial
END:VEVENT
END:VCALENDAR