BEGIN:VCALENDAR
VERSION:2.0
PRODID:-//Karas on Crime - ECPv6.15.17//NONSGML v1.0//EN
CALSCALE:GREGORIAN
METHOD:PUBLISH
X-WR-CALNAME:Karas on Crime
X-ORIGINAL-URL:https://www.karasoncrime.com
X-WR-CALDESC:Events for Karas on Crime
REFRESH-INTERVAL;VALUE=DURATION:PT1H
X-Robots-Tag:noindex
X-PUBLISHED-TTL:PT1H
BEGIN:VTIMEZONE
TZID:America/New_York
BEGIN:DAYLIGHT
TZOFFSETFROM:-0500
TZOFFSETTO:-0400
TZNAME:EDT
DTSTART:20130310T070000
END:DAYLIGHT
BEGIN:STANDARD
TZOFFSETFROM:-0400
TZOFFSETTO:-0500
TZNAME:EST
DTSTART:20131103T060000
END:STANDARD
BEGIN:DAYLIGHT
TZOFFSETFROM:-0500
TZOFFSETTO:-0400
TZNAME:EDT
DTSTART:20140309T070000
END:DAYLIGHT
BEGIN:STANDARD
TZOFFSETFROM:-0400
TZOFFSETTO:-0500
TZNAME:EST
DTSTART:20141102T060000
END:STANDARD
BEGIN:DAYLIGHT
TZOFFSETFROM:-0500
TZOFFSETTO:-0400
TZNAME:EDT
DTSTART:20150308T070000
END:DAYLIGHT
BEGIN:STANDARD
TZOFFSETFROM:-0400
TZOFFSETTO:-0500
TZNAME:EST
DTSTART:20151101T060000
END:STANDARD
BEGIN:DAYLIGHT
TZOFFSETFROM:-0500
TZOFFSETTO:-0400
TZNAME:EDT
DTSTART:20160313T070000
END:DAYLIGHT
BEGIN:STANDARD
TZOFFSETFROM:-0400
TZOFFSETTO:-0500
TZNAME:EST
DTSTART:20161106T060000
END:STANDARD
END:VTIMEZONE
BEGIN:VTIMEZONE
TZID:America/New_York
BEGIN:DAYLIGHT
TZOFFSETFROM:-0500
TZOFFSETTO:-0400
TZNAME:EDT
DTSTART:20130310T070000
END:DAYLIGHT
BEGIN:STANDARD
TZOFFSETFROM:-0400
TZOFFSETTO:-0500
TZNAME:EST
DTSTART:20131103T060000
END:STANDARD
BEGIN:DAYLIGHT
TZOFFSETFROM:-0500
TZOFFSETTO:-0400
TZNAME:EDT
DTSTART:20140309T070000
END:DAYLIGHT
BEGIN:STANDARD
TZOFFSETFROM:-0400
TZOFFSETTO:-0500
TZNAME:EST
DTSTART:20141102T060000
END:STANDARD
BEGIN:DAYLIGHT
TZOFFSETFROM:-0500
TZOFFSETTO:-0400
TZNAME:EDT
DTSTART:20150308T070000
END:DAYLIGHT
BEGIN:STANDARD
TZOFFSETFROM:-0400
TZOFFSETTO:-0500
TZNAME:EST
DTSTART:20151101T060000
END:STANDARD
END:VTIMEZONE
BEGIN:VEVENT
DTSTART;TZID=America/New_York:20150122T080000
DTEND;TZID=America/New_York:20150122T170000
DTSTAMP:20260421T115649
CREATED:20150106T005839Z
LAST-MODIFIED:20150106T005839Z
UID:5608-1421913600-1421946000@www.karasoncrime.com
SUMMARY:Trial
DESCRIPTION:
URL:https://www.karasoncrime.com/calendar/trial-12/
END:VEVENT
BEGIN:VEVENT
DTSTART;TZID=America/New_York:20150121T080000
DTEND;TZID=America/New_York:20150121T170000
DTSTAMP:20260421T115649
CREATED:20150106T010147Z
LAST-MODIFIED:20150106T010147Z
UID:5616-1421827200-1421859600@www.karasoncrime.com
SUMMARY:Trial
DESCRIPTION:
URL:https://www.karasoncrime.com/calendar/trial-17/
END:VEVENT
BEGIN:VEVENT
DTSTART;TZID=America/New_York:20150120T080000
DTEND;TZID=America/New_York:20150120T170000
DTSTAMP:20260421T115649
CREATED:20150106T005814Z
LAST-MODIFIED:20150106T005814Z
UID:5607-1421740800-1421773200@www.karasoncrime.com
SUMMARY:Trial
DESCRIPTION:
URL:https://www.karasoncrime.com/calendar/trial-11/
END:VEVENT
BEGIN:VEVENT
DTSTART;TZID=America/New_York:20150119T080000
DTEND;TZID=America/New_York:20150119T170000
DTSTAMP:20260421T115649
CREATED:20150106T005754Z
LAST-MODIFIED:20150106T005754Z
UID:5606-1421654400-1421686800@www.karasoncrime.com
SUMMARY:Dark
DESCRIPTION:
URL:https://www.karasoncrime.com/calendar/dark-2/
END:VEVENT
BEGIN:VEVENT
DTSTART;TZID=America/New_York:20150116T080000
DTEND;TZID=America/New_York:20150116T170000
DTSTAMP:20260421T115649
CREATED:20150106T005732Z
LAST-MODIFIED:20150106T005732Z
UID:5605-1421395200-1421427600@www.karasoncrime.com
SUMMARY:Dark
DESCRIPTION:
URL:https://www.karasoncrime.com/calendar/dark/
END:VEVENT
BEGIN:VEVENT
DTSTART;TZID=America/New_York:20150115T080000
DTEND;TZID=America/New_York:20150115T170000
DTSTAMP:20260421T115649
CREATED:20150106T005701Z
LAST-MODIFIED:20150106T005701Z
UID:5604-1421308800-1421341200@www.karasoncrime.com
SUMMARY:Dark
DESCRIPTION:
URL:https://www.karasoncrime.com/calendar/trial-10/
END:VEVENT
BEGIN:VEVENT
DTSTART;TZID=America/New_York:20150114T080000
DTEND;TZID=America/New_York:20150114T170000
DTSTAMP:20260421T115649
CREATED:20150106T005638Z
LAST-MODIFIED:20150106T005638Z
UID:5603-1421222400-1421254800@www.karasoncrime.com
SUMMARY:Trial
DESCRIPTION:
URL:https://www.karasoncrime.com/calendar/trial-9/
END:VEVENT
BEGIN:VEVENT
DTSTART;TZID=America/New_York:20150113T080000
DTEND;TZID=America/New_York:20150113T170000
DTSTAMP:20260421T115649
CREATED:20150106T005617Z
LAST-MODIFIED:20150106T005617Z
UID:5602-1421136000-1421168400@www.karasoncrime.com
SUMMARY:Dark
DESCRIPTION:
URL:https://www.karasoncrime.com/calendar/trial-8/
END:VEVENT
BEGIN:VEVENT
DTSTART;TZID=America/New_York:20150112T080000
DTEND;TZID=America/New_York:20150112T170000
DTSTAMP:20260421T115649
CREATED:20150106T005555Z
LAST-MODIFIED:20150106T005555Z
UID:5601-1421049600-1421082000@www.karasoncrime.com
SUMMARY:Trial
DESCRIPTION:
URL:https://www.karasoncrime.com/calendar/trial-7/
END:VEVENT
BEGIN:VEVENT
DTSTART;TZID=America/New_York:20150109T080000
DTEND;TZID=America/New_York:20150109T170000
DTSTAMP:20260421T115649
CREATED:20141229T094950Z
LAST-MODIFIED:20141229T094950Z
UID:5425-1420790400-1420822800@www.karasoncrime.com
SUMMARY:Argument on Motion to Dismiss at 1:30/no jury
DESCRIPTION:
URL:https://www.karasoncrime.com/calendar/dark-day-22/
END:VEVENT
BEGIN:VEVENT
DTSTART;TZID=America/New_York:20150108T080000
DTEND;TZID=America/New_York:20150108T170000
DTSTAMP:20260421T115649
CREATED:20141229T094825Z
LAST-MODIFIED:20141229T094825Z
UID:5424-1420704000-1420736400@www.karasoncrime.com
SUMMARY:Media hearing at 8:30/Trial at 9:30
DESCRIPTION:
URL:https://www.karasoncrime.com/calendar/trial-6/
END:VEVENT
BEGIN:VEVENT
DTSTART;TZID=America/New_York:20150107T080000
DTEND;TZID=America/New_York:20150107T170000
DTSTAMP:20260421T115649
CREATED:20141229T094803Z
LAST-MODIFIED:20141229T094803Z
UID:5423-1420617600-1420650000@www.karasoncrime.com
SUMMARY:Dark
DESCRIPTION:
URL:https://www.karasoncrime.com/calendar/trial-5/
END:VEVENT
BEGIN:VEVENT
DTSTART;TZID=America/New_York:20150106T080000
DTEND;TZID=America/New_York:20150106T170000
DTSTAMP:20260421T115649
CREATED:20141229T094715Z
LAST-MODIFIED:20141229T094715Z
UID:5421-1420531200-1420563600@www.karasoncrime.com
SUMMARY:Dark/Status Conference at 4 p.m.
DESCRIPTION:
URL:https://www.karasoncrime.com/calendar/trial-4/
END:VEVENT
BEGIN:VEVENT
DTSTART;TZID=America/New_York:20150105T080000
DTEND;TZID=America/New_York:20150105T170000
DTSTAMP:20260421T115649
CREATED:20141229T094646Z
LAST-MODIFIED:20141229T094646Z
UID:5420-1420444800-1420477200@www.karasoncrime.com
SUMMARY:Dark/Jury sent home in morning
DESCRIPTION:
URL:https://www.karasoncrime.com/calendar/trial-3/
END:VEVENT
BEGIN:VEVENT
DTSTART;VALUE=DATE:20141218
DTEND;VALUE=DATE:20141219
DTSTAMP:20260421T115649
CREATED:20141030T150500Z
LAST-MODIFIED:20141030T150500Z
UID:2649-1418860800-1418947199@www.karasoncrime.com
SUMMARY:Trial
DESCRIPTION:
URL:https://www.karasoncrime.com/calendar/trial-day-28/
CATEGORIES:Jodi Trial
END:VEVENT
BEGIN:VEVENT
DTSTART;VALUE=DATE:20141217
DTEND;VALUE=DATE:20141218
DTSTAMP:20260421T115649
CREATED:20141030T150430Z
LAST-MODIFIED:20141030T150430Z
UID:2648-1418774400-1418860799@www.karasoncrime.com
SUMMARY:Trial
DESCRIPTION:
URL:https://www.karasoncrime.com/calendar/trial-day-27/
CATEGORIES:Jodi Trial
END:VEVENT
BEGIN:VEVENT
DTSTART;VALUE=DATE:20141216
DTEND;VALUE=DATE:20141217
DTSTAMP:20260421T115649
CREATED:20141030T150401Z
LAST-MODIFIED:20141030T150401Z
UID:2647-1418688000-1418774399@www.karasoncrime.com
SUMMARY:Trial
DESCRIPTION:
URL:https://www.karasoncrime.com/calendar/trial-day-26/
CATEGORIES:Jodi Trial
END:VEVENT
BEGIN:VEVENT
DTSTART;VALUE=DATE:20141215
DTEND;VALUE=DATE:20141216
DTSTAMP:20260421T115649
CREATED:20141030T150334Z
LAST-MODIFIED:20141030T150334Z
UID:2646-1418601600-1418687999@www.karasoncrime.com
SUMMARY:Trial
DESCRIPTION:
URL:https://www.karasoncrime.com/calendar/trial-day-25/
CATEGORIES:Jodi Trial
END:VEVENT
BEGIN:VEVENT
DTSTART;VALUE=DATE:20141212
DTEND;VALUE=DATE:20141213
DTSTAMP:20260421T115649
CREATED:20141030T150615Z
LAST-MODIFIED:20141030T150615Z
UID:2651-1418342400-1418428799@www.karasoncrime.com
SUMMARY:Dark Day
DESCRIPTION:
URL:https://www.karasoncrime.com/calendar/dark-day-21/
CATEGORIES:Jodi Trial
END:VEVENT
BEGIN:VEVENT
DTSTART;VALUE=DATE:20141211
DTEND;VALUE=DATE:20141212
DTSTAMP:20260421T115649
CREATED:20141030T150301Z
LAST-MODIFIED:20141030T150301Z
UID:2645-1418256000-1418342399@www.karasoncrime.com
SUMMARY:Day 3 of Hearing on Arias's Motion to Dismiss
DESCRIPTION:
URL:https://www.karasoncrime.com/calendar/trial-day-24/
CATEGORIES:Jodi Trial
END:VEVENT
BEGIN:VEVENT
DTSTART;VALUE=DATE:20141210
DTEND;VALUE=DATE:20141211
DTSTAMP:20260421T115649
CREATED:20141030T150221Z
LAST-MODIFIED:20141030T150221Z
UID:2644-1418169600-1418255999@www.karasoncrime.com
SUMMARY:Dark Day
DESCRIPTION:
URL:https://www.karasoncrime.com/calendar/trial-day-23/
CATEGORIES:Jodi Trial
END:VEVENT
BEGIN:VEVENT
DTSTART;VALUE=DATE:20141209
DTEND;VALUE=DATE:20141210
DTSTAMP:20260421T115649
CREATED:20141030T150149Z
LAST-MODIFIED:20141030T150149Z
UID:2643-1418083200-1418169599@www.karasoncrime.com
SUMMARY:Dark Day
DESCRIPTION:
URL:https://www.karasoncrime.com/calendar/trial-day-22/
CATEGORIES:Jodi Trial
END:VEVENT
BEGIN:VEVENT
DTSTART;VALUE=DATE:20141208
DTEND;VALUE=DATE:20141209
DTSTAMP:20260421T115649
CREATED:20141030T150111Z
LAST-MODIFIED:20141030T150111Z
UID:2642-1417996800-1418083199@www.karasoncrime.com
SUMMARY:No Trial; Status Conference
DESCRIPTION:
URL:https://www.karasoncrime.com/calendar/trial-day-21/
CATEGORIES:Jodi Trial
END:VEVENT
BEGIN:VEVENT
DTSTART;VALUE=DATE:20141205
DTEND;VALUE=DATE:20141206
DTSTAMP:20260421T115649
CREATED:20141030T150538Z
LAST-MODIFIED:20141030T150538Z
UID:2650-1417737600-1417823999@www.karasoncrime.com
SUMMARY:Dark Day
DESCRIPTION:
URL:https://www.karasoncrime.com/calendar/dark-day-20/
CATEGORIES:Jodi Trial
END:VEVENT
BEGIN:VEVENT
DTSTART;VALUE=DATE:20141204
DTEND;VALUE=DATE:20141205
DTSTAMP:20260421T115649
CREATED:20141030T150033Z
LAST-MODIFIED:20141030T150033Z
UID:2641-1417651200-1417737599@www.karasoncrime.com
SUMMARY:Continued Hearing on Arias's Motion to Dismiss
DESCRIPTION:
URL:https://www.karasoncrime.com/calendar/trial-day-20/
CATEGORIES:Jodi Trial
END:VEVENT
BEGIN:VEVENT
DTSTART;VALUE=DATE:20141203
DTEND;VALUE=DATE:20141204
DTSTAMP:20260421T115649
CREATED:20141030T145952Z
LAST-MODIFIED:20141030T145952Z
UID:2640-1417564800-1417651199@www.karasoncrime.com
SUMMARY:Trial
DESCRIPTION:
URL:https://www.karasoncrime.com/calendar/trial-day-19/
CATEGORIES:Jodi Trial
END:VEVENT
BEGIN:VEVENT
DTSTART;VALUE=DATE:20141202
DTEND;VALUE=DATE:20141203
DTSTAMP:20260421T115649
CREATED:20141030T145714Z
LAST-MODIFIED:20141030T145714Z
UID:2639-1417478400-1417564799@www.karasoncrime.com
SUMMARY:Trial
DESCRIPTION:
URL:https://www.karasoncrime.com/calendar/trial-day-18/
CATEGORIES:Jodi Trial
END:VEVENT
BEGIN:VEVENT
DTSTART;VALUE=DATE:20141201
DTEND;VALUE=DATE:20141202
DTSTAMP:20260421T115649
CREATED:20141030T145629Z
LAST-MODIFIED:20141030T145629Z
UID:2638-1417392000-1417478399@www.karasoncrime.com
SUMMARY:Dark Day
DESCRIPTION:
URL:https://www.karasoncrime.com/calendar/trial-day-17/
CATEGORIES:Jodi Trial
END:VEVENT
BEGIN:VEVENT
DTSTART;VALUE=DATE:20141128
DTEND;VALUE=DATE:20141129
DTSTAMP:20260421T115649
CREATED:20141030T144417Z
LAST-MODIFIED:20141030T144417Z
UID:2637-1417132800-1417219199@www.karasoncrime.com
SUMMARY:Dark Day
DESCRIPTION:
URL:https://www.karasoncrime.com/calendar/dark-day-19/
CATEGORIES:Jodi Trial
END:VEVENT
BEGIN:VEVENT
DTSTART;VALUE=DATE:20141127
DTEND;VALUE=DATE:20141128
DTSTAMP:20260421T115649
CREATED:20141030T144340Z
LAST-MODIFIED:20141030T144340Z
UID:2636-1417046400-1417132799@www.karasoncrime.com
SUMMARY:Dark Day
DESCRIPTION:
URL:https://www.karasoncrime.com/calendar/dark-day-18/
CATEGORIES:Jodi Trial
END:VEVENT
END:VCALENDAR