BEGIN:VCALENDAR
VERSION:2.0
PRODID:-//Karas on Crime - ECPv6.15.17//NONSGML v1.0//EN
CALSCALE:GREGORIAN
METHOD:PUBLISH
X-WR-CALNAME:Karas on Crime
X-ORIGINAL-URL:https://www.karasoncrime.com
X-WR-CALDESC:Events for Karas on Crime
REFRESH-INTERVAL;VALUE=DURATION:PT1H
X-Robots-Tag:noindex
X-PUBLISHED-TTL:PT1H
BEGIN:VTIMEZONE
TZID:America/New_York
BEGIN:DAYLIGHT
TZOFFSETFROM:-0500
TZOFFSETTO:-0400
TZNAME:EDT
DTSTART:20140309T070000
END:DAYLIGHT
BEGIN:STANDARD
TZOFFSETFROM:-0400
TZOFFSETTO:-0500
TZNAME:EST
DTSTART:20141102T060000
END:STANDARD
BEGIN:DAYLIGHT
TZOFFSETFROM:-0500
TZOFFSETTO:-0400
TZNAME:EDT
DTSTART:20150308T070000
END:DAYLIGHT
BEGIN:STANDARD
TZOFFSETFROM:-0400
TZOFFSETTO:-0500
TZNAME:EST
DTSTART:20151101T060000
END:STANDARD
BEGIN:DAYLIGHT
TZOFFSETFROM:-0500
TZOFFSETTO:-0400
TZNAME:EDT
DTSTART:20160313T070000
END:DAYLIGHT
BEGIN:STANDARD
TZOFFSETFROM:-0400
TZOFFSETTO:-0500
TZNAME:EST
DTSTART:20161106T060000
END:STANDARD
END:VTIMEZONE
BEGIN:VTIMEZONE
TZID:America/New_York
BEGIN:DAYLIGHT
TZOFFSETFROM:-0500
TZOFFSETTO:-0400
TZNAME:EDT
DTSTART:20140309T070000
END:DAYLIGHT
BEGIN:STANDARD
TZOFFSETFROM:-0400
TZOFFSETTO:-0500
TZNAME:EST
DTSTART:20141102T060000
END:STANDARD
BEGIN:DAYLIGHT
TZOFFSETFROM:-0500
TZOFFSETTO:-0400
TZNAME:EDT
DTSTART:20150308T070000
END:DAYLIGHT
BEGIN:STANDARD
TZOFFSETFROM:-0400
TZOFFSETTO:-0500
TZNAME:EST
DTSTART:20151101T060000
END:STANDARD
BEGIN:DAYLIGHT
TZOFFSETFROM:-0500
TZOFFSETTO:-0400
TZNAME:EDT
DTSTART:20160313T070000
END:DAYLIGHT
BEGIN:STANDARD
TZOFFSETFROM:-0400
TZOFFSETTO:-0500
TZNAME:EST
DTSTART:20161106T060000
END:STANDARD
END:VTIMEZONE
BEGIN:VEVENT
DTSTART;TZID=America/New_York:20151130T080000
DTEND;TZID=America/New_York:20151130T170000
DTSTAMP:20260419T181747
CREATED:20151201T002616Z
LAST-MODIFIED:20151201T002616Z
UID:20356-1448870400-1448902800@www.karasoncrime.com
SUMMARY:Curtis Wayne Wright Arraignment
DESCRIPTION:
URL:https://www.karasoncrime.com/calendar/curtis-wayne-wright-arraignment/
END:VEVENT
BEGIN:VEVENT
DTSTART;TZID=America/New_York:20151130T080000
DTEND;TZID=America/New_York:20151130T170000
DTSTAMP:20260419T181747
CREATED:20151027T210532Z
LAST-MODIFIED:20151027T210532Z
UID:19242-1448870400-1448902800@www.karasoncrime.com
SUMMARY:William Porter Trial (Baltimore Cop/Freddie Gray)
DESCRIPTION:
URL:https://www.karasoncrime.com/calendar/william-porter-trial-baltimore-copfreddie-gray/
END:VEVENT
BEGIN:VEVENT
DTSTART;TZID=America/New_York:20151116T083000
DTEND;TZID=America/New_York:20151116T093000
DTSTAMP:20260419T181747
CREATED:20151016T031437Z
LAST-MODIFIED:20151016T031437Z
UID:18958-1447662600-1447666200@www.karasoncrime.com
SUMMARY:Curtis Wayne Wright Court Appearance
DESCRIPTION:
URL:https://www.karasoncrime.com/calendar/curtis-wayne-wright-court-appearance/
END:VEVENT
BEGIN:VEVENT
DTSTART;TZID=America/New_York:20151116T080000
DTEND;TZID=America/New_York:20151116T170000
DTSTAMP:20260419T181747
CREATED:20151027T210408Z
LAST-MODIFIED:20151027T210408Z
UID:19241-1447660800-1447693200@www.karasoncrime.com
SUMMARY:Jared Fogle Sentencing
DESCRIPTION:
URL:https://www.karasoncrime.com/calendar/jared-fogle-sentencing/
END:VEVENT
BEGIN:VEVENT
DTSTART;TZID=America/New_York:20151112T080000
DTEND;TZID=America/New_York:20151112T170000
DTSTAMP:20260419T181747
CREATED:20151027T210251Z
LAST-MODIFIED:20151027T210251Z
UID:19240-1447315200-1447347600@www.karasoncrime.com
SUMMARY:Angelika Graswald Status Conference
DESCRIPTION:
URL:https://www.karasoncrime.com/calendar/angelika-graswald-status-conference/
END:VEVENT
BEGIN:VEVENT
DTSTART;TZID=America/New_York:20151102T080000
DTEND;TZID=America/New_York:20151102T170000
DTSTAMP:20260419T181747
CREATED:20151020T212133Z
LAST-MODIFIED:20151020T212133Z
UID:19012-1446451200-1446483600@www.karasoncrime.com
SUMMARY:Sheldon Silver's Fed Trial in NYC
DESCRIPTION:
URL:https://www.karasoncrime.com/calendar/sheldon-silvers-fed-trial-in-nyc/
END:VEVENT
BEGIN:VEVENT
DTSTART;TZID=America/New_York:20151102T080000
DTEND;TZID=America/New_York:20151102T170000
DTSTAMP:20260419T181747
CREATED:20151020T212042Z
LAST-MODIFIED:20151020T212042Z
UID:19011-1446451200-1446483600@www.karasoncrime.com
SUMMARY:Shrimp Boy's Fed Trial in SF
DESCRIPTION:
URL:https://www.karasoncrime.com/calendar/shrimp-boys-fed-trial-in-sf/
END:VEVENT
BEGIN:VEVENT
DTSTART;TZID=America/New_York:20151102T080000
DTEND;TZID=America/New_York:20151102T170000
DTSTAMP:20260419T181747
CREATED:20151020T211914Z
LAST-MODIFIED:20151020T211914Z
UID:19010-1446451200-1446483600@www.karasoncrime.com
SUMMARY:
DESCRIPTION:Shrimp Boy’s Fed trial in SF\nSheldon Silver Fed trial in NYC
URL:https://www.karasoncrime.com/calendar/19010/
END:VEVENT
BEGIN:VEVENT
DTSTART;TZID=America/New_York:20151029T080000
DTEND;TZID=America/New_York:20151029T170000
DTSTAMP:20260419T181747
CREATED:20150831T195641Z
LAST-MODIFIED:20150831T195641Z
UID:17852-1446105600-1446138000@www.karasoncrime.com
SUMMARY:Owen Labrie Sentencing/St. Paul's sex assault case
DESCRIPTION:
URL:https://www.karasoncrime.com/calendar/owen-labrie-sentencingst-pauls-sex-assault-case/
END:VEVENT
BEGIN:VEVENT
DTSTART;TZID=America/New_York:20151015T080000
DTEND;TZID=America/New_York:20151015T170000
DTSTAMP:20260419T181747
CREATED:20150922T154607Z
LAST-MODIFIED:20150922T154607Z
UID:18265-1444896000-1444928400@www.karasoncrime.com
SUMMARY:Mark Baker argues Shaken Baby appeal
DESCRIPTION:
URL:https://www.karasoncrime.com/calendar/mark-baker-argues-shaken-baby-appeal/
END:VEVENT
BEGIN:VEVENT
DTSTART;TZID=America/New_York:20151012T080000
DTEND;TZID=America/New_York:20151012T170000
DTSTAMP:20260419T181747
CREATED:20151005T142121Z
LAST-MODIFIED:20151005T142121Z
UID:18659-1444636800-1444669200@www.karasoncrime.com
SUMMARY:Justin Ross Harris -- Hearing Continues
DESCRIPTION:
URL:https://www.karasoncrime.com/calendar/justin-ross-harris-hearing-continues/
END:VEVENT
BEGIN:VEVENT
DTSTART;TZID=America/New_York:20151002T080000
DTEND;TZID=America/New_York:20151002T170000
DTSTAMP:20260419T181747
CREATED:20150922T150425Z
LAST-MODIFIED:20150928T043135Z
UID:18261-1443772800-1443805200@www.karasoncrime.com
SUMMARY:Jesse Matthew - Sentencing for Sexual Assault & Att. Murder
DESCRIPTION:
URL:https://www.karasoncrime.com/calendar/jesse-matthews-sentencing-for-sexual-assault-att-murder/
END:VEVENT
BEGIN:VEVENT
DTSTART;TZID=America/New_York:20150930T140000
DTEND;TZID=America/New_York:20150930T140000
DTSTAMP:20260419T181747
CREATED:20150922T150331Z
LAST-MODIFIED:20150928T043108Z
UID:18260-1443621600-1443621600@www.karasoncrime.com
SUMMARY:Jesse Matthew - Control Date
DESCRIPTION:
URL:https://www.karasoncrime.com/calendar/jesse-matthews-control-date/
END:VEVENT
BEGIN:VEVENT
DTSTART;TZID=America/New_York:20150904T080000
DTEND;TZID=America/New_York:20150904T170000
DTSTAMP:20260419T181747
CREATED:20150831T195818Z
LAST-MODIFIED:20150831T195818Z
UID:17854-1441353600-1441386000@www.karasoncrime.com
SUMMARY:Charles Merritt Hearing
DESCRIPTION:
URL:https://www.karasoncrime.com/calendar/charles-merritt-hearing/
END:VEVENT
BEGIN:VEVENT
DTSTART;TZID=America/New_York:20150826T080000
DTEND;TZID=America/New_York:20150826T170000
DTSTAMP:20260419T181747
CREATED:20150827T124402Z
LAST-MODIFIED:20150827T124402Z
UID:17817-1440576000-1440608400@www.karasoncrime.com
SUMMARY:Theater Shooting -- Day 3\, Sentence Imposed
DESCRIPTION:
URL:https://www.karasoncrime.com/calendar/theater-shooting-day-3-sentence-imposed/
END:VEVENT
BEGIN:VEVENT
DTSTART;TZID=America/New_York:20150825T080000
DTEND;TZID=America/New_York:20150825T170000
DTSTAMP:20260419T181747
CREATED:20150827T124329Z
LAST-MODIFIED:20150827T124329Z
UID:17816-1440489600-1440522000@www.karasoncrime.com
SUMMARY:Theater Shooting -- Day 2\, Sentencing Hearing
DESCRIPTION:
URL:https://www.karasoncrime.com/calendar/theater-shooting-day-2-sentencing-hearing/
END:VEVENT
BEGIN:VEVENT
DTSTART;TZID=America/New_York:20150824T080000
DTEND;TZID=America/New_York:20150824T170000
DTSTAMP:20260419T181747
CREATED:20150827T124239Z
LAST-MODIFIED:20150827T124239Z
UID:17815-1440403200-1440435600@www.karasoncrime.com
SUMMARY:Theater Shooting -- Day 1 Sentencing Hearing
DESCRIPTION:
URL:https://www.karasoncrime.com/calendar/theater-shooting-day-1-sentencing-hearing/
END:VEVENT
BEGIN:VEVENT
DTSTART;TZID=America/New_York:20150807T080000
DTEND;TZID=America/New_York:20150807T170000
DTSTAMP:20260419T181747
CREATED:20150802T170303Z
LAST-MODIFIED:20150802T170303Z
UID:17517-1438934400-1438966800@www.karasoncrime.com
SUMMARY:Hearing in Merritt case
DESCRIPTION:
URL:https://www.karasoncrime.com/calendar/hearing-in-merritt-case/
END:VEVENT
BEGIN:VEVENT
DTSTART;TZID=America/New_York:20150731T080000
DTEND;TZID=America/New_York:20150731T170000
DTSTAMP:20260419T181747
CREATED:20150508T215543Z
LAST-MODIFIED:20150508T215543Z
UID:15258-1438329600-1438362000@www.karasoncrime.com
SUMMARY:Theater Shooting Trial/Dark Day
DESCRIPTION:
URL:https://www.karasoncrime.com/calendar/theater-shooting-trialdark-day-7/
END:VEVENT
BEGIN:VEVENT
DTSTART;TZID=America/New_York:20150730T080000
DTEND;TZID=America/New_York:20150730T170000
DTSTAMP:20260419T181747
CREATED:20150802T170557Z
LAST-MODIFIED:20150802T170557Z
UID:17519-1438243200-1438275600@www.karasoncrime.com
SUMMARY:Closing arguments/Theater Trial/Phase 2 of Sentencing
DESCRIPTION:
URL:https://www.karasoncrime.com/calendar/closing-argumentstheater-trialphase-2-of-sentencing/
END:VEVENT
BEGIN:VEVENT
DTSTART;TZID=America/New_York:20150717T080000
DTEND;TZID=America/New_York:20150717T170000
DTSTAMP:20260419T181747
CREATED:20150508T215518Z
LAST-MODIFIED:20150508T215518Z
UID:15257-1437120000-1437152400@www.karasoncrime.com
SUMMARY:Theater Shooting Trial/Dark Day
DESCRIPTION:
URL:https://www.karasoncrime.com/calendar/theater-shooting-trialdark-day-6/
END:VEVENT
BEGIN:VEVENT
DTSTART;TZID=America/New_York:20150716T080000
DTEND;TZID=America/New_York:20150716T170000
DTSTAMP:20260419T181747
CREATED:20150802T170451Z
LAST-MODIFIED:20150802T170451Z
UID:17518-1437033600-1437066000@www.karasoncrime.com
SUMMARY:Guilty Verdicts in Theater Shooting trial
DESCRIPTION:
URL:https://www.karasoncrime.com/calendar/guilty-verdicts-in-theater-shooting-trial/
END:VEVENT
BEGIN:VEVENT
DTSTART;TZID=America/New_York:20150714T080000
DTEND;TZID=America/New_York:20150714T170000
DTSTAMP:20260419T181747
CREATED:20150713T204307Z
LAST-MODIFIED:20150713T204307Z
UID:16939-1436860800-1436893200@www.karasoncrime.com
SUMMARY:Closing Arguments in Theater Shooting Trial
DESCRIPTION:
URL:https://www.karasoncrime.com/calendar/closing-arguments-in-theater-shooting-trial/
END:VEVENT
BEGIN:VEVENT
DTSTART;TZID=America/New_York:20150713T080000
DTEND;TZID=America/New_York:20150713T170000
DTSTAMP:20260419T181747
CREATED:20150713T204147Z
LAST-MODIFIED:20150713T204402Z
UID:16937-1436774400-1436806800@www.karasoncrime.com
SUMMARY:Theater Shooting Trial/Dark Day
DESCRIPTION:
URL:https://www.karasoncrime.com/calendar/trial-dark/
END:VEVENT
BEGIN:VEVENT
DTSTART;TZID=America/New_York:20150703T080000
DTEND;TZID=America/New_York:20150703T170000
DTSTAMP:20260419T181747
CREATED:20150508T215456Z
LAST-MODIFIED:20150508T215456Z
UID:15256-1435910400-1435942800@www.karasoncrime.com
SUMMARY:Theater Shooting Trial/Dark Day
DESCRIPTION:
URL:https://www.karasoncrime.com/calendar/theater-shooting-trialdark-day-5/
END:VEVENT
BEGIN:VEVENT
DTSTART;TZID=America/New_York:20150702T080000
DTEND;TZID=America/New_York:20150702T170000
DTSTAMP:20260419T181747
CREATED:20150525T020249Z
LAST-MODIFIED:20150525T020249Z
UID:15457-1435824000-1435856400@www.karasoncrime.com
SUMMARY:Arraignment of 6 Baltimore officers
DESCRIPTION:
URL:https://www.karasoncrime.com/calendar/arraignment-of-6-baltimore-officers/
END:VEVENT
BEGIN:VEVENT
DTSTART;TZID=America/New_York:20150612T080000
DTEND;TZID=America/New_York:20150612T170000
DTSTAMP:20260419T181747
CREATED:20150508T215432Z
LAST-MODIFIED:20150508T215432Z
UID:15255-1434096000-1434128400@www.karasoncrime.com
SUMMARY:Theater Shooting Trial/Dark Day
DESCRIPTION:
URL:https://www.karasoncrime.com/calendar/theater-shooting-trialdark-day-4/
END:VEVENT
BEGIN:VEVENT
DTSTART;TZID=America/New_York:20150525T080000
DTEND;TZID=America/New_York:20150525T170000
DTSTAMP:20260419T181747
CREATED:20150508T215402Z
LAST-MODIFIED:20150508T215403Z
UID:15254-1432540800-1432573200@www.karasoncrime.com
SUMMARY:Theater Shooting Trial/Dark Day
DESCRIPTION:
URL:https://www.karasoncrime.com/calendar/theater-shooting-trialdark-day-3/
END:VEVENT
BEGIN:VEVENT
DTSTART;TZID=America/New_York:20150522T080000
DTEND;TZID=America/New_York:20150522T170000
DTSTAMP:20260419T181747
CREATED:20150508T215332Z
LAST-MODIFIED:20150508T215332Z
UID:15253-1432281600-1432314000@www.karasoncrime.com
SUMMARY:Theater Shooting Trial/Dark Day
DESCRIPTION:
URL:https://www.karasoncrime.com/calendar/theater-shooting-trialdark-day-2/
END:VEVENT
BEGIN:VEVENT
DTSTART;TZID=America/New_York:20150515T080000
DTEND;TZID=America/New_York:20150515T170000
DTSTAMP:20260419T181747
CREATED:20150508T215258Z
LAST-MODIFIED:20150508T215258Z
UID:15252-1431676800-1431709200@www.karasoncrime.com
SUMMARY:Theater Shooting Trial/Dark Day
DESCRIPTION:
URL:https://www.karasoncrime.com/calendar/theater-shooting-trialdark-day/
END:VEVENT
END:VCALENDAR