BEGIN:VCALENDAR
VERSION:2.0
PRODID:-//Karas on Crime - ECPv6.15.17//NONSGML v1.0//EN
CALSCALE:GREGORIAN
METHOD:PUBLISH
X-WR-CALNAME:Karas on Crime
X-ORIGINAL-URL:https://www.karasoncrime.com
X-WR-CALDESC:Events for Karas on Crime
REFRESH-INTERVAL;VALUE=DURATION:PT1H
X-Robots-Tag:noindex
X-PUBLISHED-TTL:PT1H
BEGIN:VTIMEZONE
TZID:America/New_York
BEGIN:DAYLIGHT
TZOFFSETFROM:-0500
TZOFFSETTO:-0400
TZNAME:EDT
DTSTART:20140309T070000
END:DAYLIGHT
BEGIN:STANDARD
TZOFFSETFROM:-0400
TZOFFSETTO:-0500
TZNAME:EST
DTSTART:20141102T060000
END:STANDARD
BEGIN:DAYLIGHT
TZOFFSETFROM:-0500
TZOFFSETTO:-0400
TZNAME:EDT
DTSTART:20150308T070000
END:DAYLIGHT
BEGIN:STANDARD
TZOFFSETFROM:-0400
TZOFFSETTO:-0500
TZNAME:EST
DTSTART:20151101T060000
END:STANDARD
BEGIN:DAYLIGHT
TZOFFSETFROM:-0500
TZOFFSETTO:-0400
TZNAME:EDT
DTSTART:20160313T070000
END:DAYLIGHT
BEGIN:STANDARD
TZOFFSETFROM:-0400
TZOFFSETTO:-0500
TZNAME:EST
DTSTART:20161106T060000
END:STANDARD
BEGIN:DAYLIGHT
TZOFFSETFROM:-0500
TZOFFSETTO:-0400
TZNAME:EDT
DTSTART:20170312T070000
END:DAYLIGHT
BEGIN:STANDARD
TZOFFSETFROM:-0400
TZOFFSETTO:-0500
TZNAME:EST
DTSTART:20171105T060000
END:STANDARD
END:VTIMEZONE
BEGIN:VTIMEZONE
TZID:America/New_York
BEGIN:DAYLIGHT
TZOFFSETFROM:-0500
TZOFFSETTO:-0400
TZNAME:EDT
DTSTART:20140309T070000
END:DAYLIGHT
BEGIN:STANDARD
TZOFFSETFROM:-0400
TZOFFSETTO:-0500
TZNAME:EST
DTSTART:20141102T060000
END:STANDARD
BEGIN:DAYLIGHT
TZOFFSETFROM:-0500
TZOFFSETTO:-0400
TZNAME:EDT
DTSTART:20150308T070000
END:DAYLIGHT
BEGIN:STANDARD
TZOFFSETFROM:-0400
TZOFFSETTO:-0500
TZNAME:EST
DTSTART:20151101T060000
END:STANDARD
BEGIN:DAYLIGHT
TZOFFSETFROM:-0500
TZOFFSETTO:-0400
TZNAME:EDT
DTSTART:20160313T070000
END:DAYLIGHT
BEGIN:STANDARD
TZOFFSETFROM:-0400
TZOFFSETTO:-0500
TZNAME:EST
DTSTART:20161106T060000
END:STANDARD
BEGIN:DAYLIGHT
TZOFFSETFROM:-0500
TZOFFSETTO:-0400
TZNAME:EDT
DTSTART:20170312T070000
END:DAYLIGHT
BEGIN:STANDARD
TZOFFSETFROM:-0400
TZOFFSETTO:-0500
TZNAME:EST
DTSTART:20171105T060000
END:STANDARD
END:VTIMEZONE
BEGIN:VEVENT
DTSTART;TZID=America/New_York:20160222T080000
DTEND;TZID=America/New_York:20160222T170000
DTSTAMP:20260419T122523
CREATED:20160220T180047Z
LAST-MODIFIED:20160224T173748Z
UID:23504-1456128000-1456160400@www.karasoncrime.com
SUMMARY:Camille Cosby Deposition
DESCRIPTION:Camille Cosby was deposed in her husband’s defamation civil suit today in Springfield\, Mass. It will continue on March 14.
URL:https://www.karasoncrime.com/calendar/bill-cosby-massachusetts-case/
END:VEVENT
BEGIN:VEVENT
DTSTART;TZID=America/New_York:20160222T080000
DTEND;TZID=America/New_York:20160222T170000
DTSTAMP:20260419T122523
CREATED:20160220T175946Z
LAST-MODIFIED:20160220T175946Z
UID:23503-1456128000-1456160400@www.karasoncrime.com
SUMMARY:Hearing in Justin Ross Harris
DESCRIPTION:The State of Georgia says it has several areas of incriminating evidence to present at trial\, currently scheduled for April 11. Some of this evidence purports to establish a motive for murder such as marital disharmony and infidelity\, and the desire to be free of childcare responsibilities.
URL:https://www.karasoncrime.com/calendar/hearing-in-justin-ross-harris/
END:VEVENT
BEGIN:VEVENT
DTSTART;TZID=America/New_York:20160219T080000
DTEND;TZID=America/New_York:20160219T170000
DTSTAMP:20260419T122523
CREATED:20151229T212925Z
LAST-MODIFIED:20160127T210842Z
UID:22229-1455868800-1455901200@www.karasoncrime.com
SUMMARY:Ethan Couch/Affluenza Teen Hearing
DESCRIPTION:Couch was 16 years old when he was placed on 10 years probation for killing four while driving drunk. He turns 19 on April 11. This hearing is seeking a transfer of the case to adult court.
URL:https://www.karasoncrime.com/calendar/ethan-couchaffluenza-teen-hearing-to-transfer-case-to-adult-court/
END:VEVENT
BEGIN:VEVENT
DTSTART;TZID=America/New_York:20160216T080000
DTEND;TZID=America/New_York:20160216T170000
DTSTAMP:20260419T122523
CREATED:20160220T180523Z
LAST-MODIFIED:20160220T180523Z
UID:23505-1455609600-1455642000@www.karasoncrime.com
SUMMARY:Opening Statements in Lonnie Franklin trial (Grim Sleeper)
DESCRIPTION:Franklin\, aka the Grim Sleeper\, is charged with 10 murders but believed to have murdered many more. He is facing the death penalty. The trial is taking place in downtown Los Angeles.
URL:https://www.karasoncrime.com/calendar/opening-statements-in-lonnie-franklin-trial-grim-sleeper/
END:VEVENT
BEGIN:VEVENT
DTSTART;TZID=America/New_York:20160209T080000
DTEND;TZID=America/New_York:20160209T170000
DTSTAMP:20260419T122523
CREATED:20160220T181601Z
LAST-MODIFIED:20160220T181601Z
UID:23507-1455004800-1455037200@www.karasoncrime.com
SUMMARY:Adnan Syed Hearing -- Day 5
DESCRIPTION:Day 5 of Syed’s post-conviction hearing. Closing arguments were heard this day. A decision by the court will be reached in some weeks.
URL:https://www.karasoncrime.com/calendar/adnan-syed-hearing-day-5/
END:VEVENT
BEGIN:VEVENT
DTSTART;TZID=America/New_York:20160209T080000
DTEND;TZID=America/New_York:20160209T170000
DTSTAMP:20260419T122523
CREATED:20160120T163004Z
LAST-MODIFIED:20160120T163004Z
UID:22836-1455004800-1455037200@www.karasoncrime.com
SUMMARY:Ruben Ebron Hearing in Jacksonville\, FL
DESCRIPTION:
URL:https://www.karasoncrime.com/calendar/ruben-ebron-hearing-in-jacksonville-fl/
END:VEVENT
BEGIN:VEVENT
DTSTART;TZID=America/New_York:20160208T080000
DTEND;TZID=America/New_York:20160208T170000
DTSTAMP:20260419T122523
CREATED:20160220T181506Z
LAST-MODIFIED:20160220T181506Z
UID:23506-1454918400-1454950800@www.karasoncrime.com
SUMMARY:Adnan Syed Hearing -- Day 4
DESCRIPTION:Day 4 of Syed’s post-conviction hearing.
URL:https://www.karasoncrime.com/calendar/adnan-syed-hearing-day-4/
END:VEVENT
BEGIN:VEVENT
DTSTART;TZID=America/New_York:20160208T080000
DTEND;TZID=America/New_York:20160208T170000
DTSTAMP:20260419T122523
CREATED:20151105T174844Z
LAST-MODIFIED:20160220T180206Z
UID:19314-1454918400-1454950800@www.karasoncrime.com
SUMMARY:Alicia White/Baltimore Cop Trial Begins
DESCRIPTION:White’s trial is now on hold pending the outcome of the March 3 Court of Appeals argument in this case and the other four where the State wants to call Officer Porter as a witness.
URL:https://www.karasoncrime.com/calendar/alicia-whitebaltimore-cop-trial-begins/
END:VEVENT
BEGIN:VEVENT
DTSTART;TZID=America/New_York:20160205T080000
DTEND;TZID=America/New_York:20160205T170000
DTSTAMP:20260419T122523
CREATED:20151216T155136Z
LAST-MODIFIED:20160215T194433Z
UID:21840-1454659200-1454691600@www.karasoncrime.com
SUMMARY:Adnan Syed Hearing--Day 3
DESCRIPTION:Day 3 of Syed’s post-conviction hearing.
URL:https://www.karasoncrime.com/calendar/adnan-syed-from-serial-podcast-hearing/
END:VEVENT
BEGIN:VEVENT
DTSTART;TZID=America/New_York:20160204T080000
DTEND;TZID=America/New_York:20160204T170000
DTSTAMP:20260419T122523
CREATED:20151216T155205Z
LAST-MODIFIED:20160215T194341Z
UID:21841-1454572800-1454605200@www.karasoncrime.com
SUMMARY:Adnan Syed Hearing
DESCRIPTION:Day 2 of post-conviction hearing in Baltimore\, MD.
URL:https://www.karasoncrime.com/calendar/adnan-syed-from-serial-podcast-hearing-2/
END:VEVENT
BEGIN:VEVENT
DTSTART;TZID=America/New_York:20160203T090000
DTEND;TZID=America/New_York:20160203T160000
DTSTAMP:20260419T122523
CREATED:20150922T150612Z
LAST-MODIFIED:20160208T193124Z
UID:18262-1454490000-1454515200@www.karasoncrime.com
SUMMARY:Robert Durst Hearing
DESCRIPTION:Durst was back in federal court in Louisiana\, this time to plead guilty to possession of a gun. He will be sentence on April 27\, 2016 and could get up to 10 years in prison. Soon after his sentencing. Durst should be on his way to Los Angeles to face murder charges in the death of Susan Berman in December 2000.
URL:https://www.karasoncrime.com/calendar/robert-durst-trial-begins-in-louisiana/
END:VEVENT
BEGIN:VEVENT
DTSTART;TZID=America/New_York:20160203T080000
DTEND;TZID=America/New_York:20160203T170000
DTSTAMP:20260419T122523
CREATED:20160215T194245Z
LAST-MODIFIED:20160215T194245Z
UID:23365-1454486400-1454518800@www.karasoncrime.com
SUMMARY:Adnan Syed Hearing
DESCRIPTION:Day 1 of post-conviction hearing in Baltimore\, MD. Syed was convicted in 2000 of the murder of his ex-girllfriend\, Hae Minh Lee. He’s always maintained his innocence and claims the jury should have heard from an alibi witness. Syed was the subject of NPR’s first season of Serial podcast.
URL:https://www.karasoncrime.com/calendar/adnan-syed-hearing/
END:VEVENT
BEGIN:VEVENT
DTSTART;TZID=America/New_York:20160202T080000
DTEND;TZID=America/New_York:20160202T170000
DTSTAMP:20260419T122523
CREATED:20160127T205653Z
LAST-MODIFIED:20160127T205653Z
UID:23064-1454400000-1454432400@www.karasoncrime.com
SUMMARY:Charles Merritt Hearing
DESCRIPTION:To determine who new counsel will be or whether he’ll represent himself.
URL:https://www.karasoncrime.com/calendar/charles-merritt-hearing-3/
END:VEVENT
BEGIN:VEVENT
DTSTART;TZID=America/New_York:20160202T080000
DTEND;TZID=America/New_York:20160202T170000
DTSTAMP:20260419T122523
CREATED:20160111T170038Z
LAST-MODIFIED:20160122T024308Z
UID:22447-1454400000-1454432400@www.karasoncrime.com
SUMMARY:Bill Cosby Hearing on Motion to Dismiss
DESCRIPTION:Cosby filed a habeas motion alleging that Bruce Castor made a non-prosecution promise in 2005/06. They say Cosby relied on that promise when he testified at deposition in Costand’s civil suit and didn’t invoke the 5th Amendment.
URL:https://www.karasoncrime.com/calendar/bill-cosby-preliminary-hearing/
END:VEVENT
BEGIN:VEVENT
DTSTART;TZID=America/New_York:20160128T080000
DTEND;TZID=America/New_York:20160128T170000
DTSTAMP:20260419T122523
CREATED:20151221T180258Z
LAST-MODIFIED:20151221T180258Z
UID:21916-1453968000-1454000400@www.karasoncrime.com
SUMMARY:Angelika Graswald -- Status Conference/Hearing
DESCRIPTION:
URL:https://www.karasoncrime.com/calendar/angelika-graswald-status-conferencehearing/
END:VEVENT
BEGIN:VEVENT
DTSTART;TZID=America/New_York:20160126T080000
DTEND;TZID=America/New_York:20160126T170000
DTSTAMP:20260419T122523
CREATED:20160122T023358Z
LAST-MODIFIED:20160122T023358Z
UID:23023-1453795200-1453827600@www.karasoncrime.com
SUMMARY:Charles Merritt Hearing
DESCRIPTION:To determine who will represent him.
URL:https://www.karasoncrime.com/calendar/charles-merritt-hearing-2/
END:VEVENT
BEGIN:VEVENT
DTSTART;TZID=America/New_York:20160121T080000
DTEND;TZID=America/New_York:20160121T170000
DTSTAMP:20260419T122523
CREATED:20160120T165429Z
LAST-MODIFIED:20160122T024514Z
UID:22838-1453363200-1453395600@www.karasoncrime.com
SUMMARY:Charles Merritt Hearing (wants April trial)
DESCRIPTION:Update: Merritt fires his defense team of 4 headed by Mettias. There’s a hearing next week to determine who will now represent him.
URL:https://www.karasoncrime.com/calendar/charles-merritt-hearing-wants-april-trial/
END:VEVENT
BEGIN:VEVENT
DTSTART;TZID=America/New_York:20160120T140000
DTEND;TZID=America/New_York:20160120T170000
DTSTAMP:20260419T122523
CREATED:20160120T164125Z
LAST-MODIFIED:20160121T140603Z
UID:22837-1453298400-1453309200@www.karasoncrime.com
SUMMARY:Alicia White/Baltimore Cop Hearing
DESCRIPTION:Outcome of hearing: Judge delays her trial. No date yet–pending appeal by Porter. Judge denies state’s request to compel Porter’s testimony at trials of Nero\, Miller and Rice.
URL:https://www.karasoncrime.com/calendar/alicia-whitebaltimore-cop-hearing/
END:VEVENT
BEGIN:VEVENT
DTSTART;TZID=America/New_York:20160119T160000
DTEND;TZID=America/New_York:20160119T170000
DTSTAMP:20260419T122523
CREATED:20160119T172236Z
LAST-MODIFIED:20160121T140820Z
UID:22812-1453219200-1453222800@www.karasoncrime.com
SUMMARY:Dippolito Hearing on Motion to Dismiss
DESCRIPTION:Outcome: Defense attorneys cross examine informant. Hearing is continued until Feb. 23 at 1:30 pm. It’s expected to last about 3 hours on that day.
URL:https://www.karasoncrime.com/calendar/dippolito-hearing-on-motion-to-dismiss/
END:VEVENT
BEGIN:VEVENT
DTSTART;TZID=America/New_York:20160119T083000
DTEND;TZID=America/New_York:20160119T103000
DTSTAMP:20260419T122523
CREATED:20160120T010557Z
LAST-MODIFIED:20160120T010557Z
UID:22835-1453192200-1453199400@www.karasoncrime.com
SUMMARY:Ethan Couch/Affluenza Teen Hearing to transfer case to adult court
DESCRIPTION:Couch not present. Case continued one month because parents were not properly notified of the hearing. Couch withdraws petition challenging his extradition.
URL:https://www.karasoncrime.com/calendar/ethan-couchaffluenza-teen-hearing-to-transfer-case-to-adult-court-2/
END:VEVENT
BEGIN:VEVENT
DTSTART;TZID=America/New_York:20160111T080000
DTEND;TZID=America/New_York:20160111T170000
DTSTAMP:20260419T122523
CREATED:20151105T174754Z
LAST-MODIFIED:20160122T023912Z
UID:19313-1452499200-1452531600@www.karasoncrime.com
SUMMARY:Caesar Goodson/Baltimore Cop Murder Trial Delayed
DESCRIPTION:Trial is delayed until outcome of Porter’s appeal in the Court of Special Appeals. Argument is March 4\, 2016.
URL:https://www.karasoncrime.com/calendar/ceasar-goodsonbaltimore-cop-murder-trial-begins/
END:VEVENT
BEGIN:VEVENT
DTSTART;TZID=America/New_York:20151230T080000
DTEND;TZID=America/New_York:20151230T170000
DTSTAMP:20260419T122523
CREATED:20151201T002647Z
LAST-MODIFIED:20151201T002647Z
UID:20357-1451462400-1451494800@www.karasoncrime.com
SUMMARY:Curtis Wayne Wright Status Conference
DESCRIPTION:
URL:https://www.karasoncrime.com/calendar/curtis-wayne-wright-status-conference/
END:VEVENT
BEGIN:VEVENT
DTSTART;TZID=America/New_York:20151223T080000
DTEND;TZID=America/New_York:20151223T170000
DTSTAMP:20260419T122523
CREATED:20151221T181925Z
LAST-MODIFIED:20151221T181925Z
UID:21917-1450857600-1450890000@www.karasoncrime.com
SUMMARY:Robert Dear/Hearing (Planned Parenthood Shooting)
DESCRIPTION:
URL:https://www.karasoncrime.com/calendar/robert-dearhearing-planned-parenthood-shooting/
END:VEVENT
BEGIN:VEVENT
DTSTART;TZID=America/New_York:20151217T080000
DTEND;TZID=America/New_York:20151217T170000
DTSTAMP:20260419T122523
CREATED:20151125T195459Z
LAST-MODIFIED:20151125T195459Z
UID:19518-1450339200-1450371600@www.karasoncrime.com
SUMMARY:Durst in Federal Court/Plea to Louisiana charges?
DESCRIPTION:
URL:https://www.karasoncrime.com/calendar/durst-in-federal-courtplea-to-louisiana-charges/
END:VEVENT
BEGIN:VEVENT
DTSTART;TZID=America/New_York:20151208T080000
DTEND;TZID=America/New_York:20151208T170000
DTSTAMP:20260419T122523
CREATED:20151125T195408Z
LAST-MODIFIED:20151125T195408Z
UID:19517-1449561600-1449594000@www.karasoncrime.com
SUMMARY:Hearing in Merritt (McStay Family Murder Case)
DESCRIPTION:
URL:https://www.karasoncrime.com/calendar/hearing-in-merritt-mcstay-family-murder-case/
END:VEVENT
BEGIN:VEVENT
DTSTART;TZID=America/New_York:20151208T080000
DTEND;TZID=America/New_York:20151208T170000
DTSTAMP:20260419T122523
CREATED:20150922T150649Z
LAST-MODIFIED:20150922T150649Z
UID:18263-1449561600-1449594000@www.karasoncrime.com
SUMMARY:Harold Henthorn Sentencing
DESCRIPTION:
URL:https://www.karasoncrime.com/calendar/harold-henthorn-sentencing/
END:VEVENT
BEGIN:VEVENT
DTSTART;TZID=America/New_York:20151130T080000
DTEND;TZID=America/New_York:20151130T170000
DTSTAMP:20260419T122523
CREATED:20151201T002616Z
LAST-MODIFIED:20151201T002616Z
UID:20356-1448870400-1448902800@www.karasoncrime.com
SUMMARY:Curtis Wayne Wright Arraignment
DESCRIPTION:
URL:https://www.karasoncrime.com/calendar/curtis-wayne-wright-arraignment/
END:VEVENT
BEGIN:VEVENT
DTSTART;TZID=America/New_York:20151130T080000
DTEND;TZID=America/New_York:20151130T170000
DTSTAMP:20260419T122523
CREATED:20151027T210532Z
LAST-MODIFIED:20151027T210532Z
UID:19242-1448870400-1448902800@www.karasoncrime.com
SUMMARY:William Porter Trial (Baltimore Cop/Freddie Gray)
DESCRIPTION:
URL:https://www.karasoncrime.com/calendar/william-porter-trial-baltimore-copfreddie-gray/
END:VEVENT
BEGIN:VEVENT
DTSTART;TZID=America/New_York:20151116T083000
DTEND;TZID=America/New_York:20151116T093000
DTSTAMP:20260419T122523
CREATED:20151016T031437Z
LAST-MODIFIED:20151016T031437Z
UID:18958-1447662600-1447666200@www.karasoncrime.com
SUMMARY:Curtis Wayne Wright Court Appearance
DESCRIPTION:
URL:https://www.karasoncrime.com/calendar/curtis-wayne-wright-court-appearance/
END:VEVENT
BEGIN:VEVENT
DTSTART;TZID=America/New_York:20151116T080000
DTEND;TZID=America/New_York:20151116T170000
DTSTAMP:20260419T122523
CREATED:20151027T210408Z
LAST-MODIFIED:20151027T210408Z
UID:19241-1447660800-1447693200@www.karasoncrime.com
SUMMARY:Jared Fogle Sentencing
DESCRIPTION:
URL:https://www.karasoncrime.com/calendar/jared-fogle-sentencing/
END:VEVENT
END:VCALENDAR