BEGIN:VCALENDAR
VERSION:2.0
PRODID:-//Karas on Crime - ECPv6.15.17//NONSGML v1.0//EN
CALSCALE:GREGORIAN
METHOD:PUBLISH
X-WR-CALNAME:Karas on Crime
X-ORIGINAL-URL:https://www.karasoncrime.com
X-WR-CALDESC:Events for Karas on Crime
REFRESH-INTERVAL;VALUE=DURATION:PT1H
X-Robots-Tag:noindex
X-PUBLISHED-TTL:PT1H
BEGIN:VTIMEZONE
TZID:America/New_York
BEGIN:DAYLIGHT
TZOFFSETFROM:-0500
TZOFFSETTO:-0400
TZNAME:EDT
DTSTART:20160313T070000
END:DAYLIGHT
BEGIN:STANDARD
TZOFFSETFROM:-0400
TZOFFSETTO:-0500
TZNAME:EST
DTSTART:20161106T060000
END:STANDARD
BEGIN:DAYLIGHT
TZOFFSETFROM:-0500
TZOFFSETTO:-0400
TZNAME:EDT
DTSTART:20170312T070000
END:DAYLIGHT
BEGIN:STANDARD
TZOFFSETFROM:-0400
TZOFFSETTO:-0500
TZNAME:EST
DTSTART:20171105T060000
END:STANDARD
BEGIN:DAYLIGHT
TZOFFSETFROM:-0500
TZOFFSETTO:-0400
TZNAME:EDT
DTSTART:20180311T070000
END:DAYLIGHT
BEGIN:STANDARD
TZOFFSETFROM:-0400
TZOFFSETTO:-0500
TZNAME:EST
DTSTART:20181104T060000
END:STANDARD
END:VTIMEZONE
BEGIN:VEVENT
DTSTART;TZID=America/New_York:20170911T090000
DTEND;TZID=America/New_York:20170911T170000
DTSTAMP:20260423T064407
CREATED:20170725T180349Z
LAST-MODIFIED:20170725T180544Z
UID:51000-1505120400-1505149200@www.karasoncrime.com
SUMMARY:First Slenderman Trial
DESCRIPTION:The trial of Anissa Weier\, accused of attempted first degree murder\, for stabbing a friend 19 times in order to please a fictional\, online character known the “Slenderman” is scheduled to begin today. Co-defendant Morgan Geyser’s trial is scheduled for October 2 in Waukesha County\, Wisconsin. Both girls were 12 when they stabbed Payton Leutner. Leutner has recovered from her injuries. The defendants are being tried as adults.
URL:https://www.karasoncrime.com/calendar/first-slenderman-trial/
END:VEVENT
BEGIN:VEVENT
DTSTART;TZID=America/New_York:20170911T090000
DTEND;TZID=America/New_York:20170911T170000
DTSTAMP:20260423T064407
CREATED:20170811T144643Z
LAST-MODIFIED:20170811T144643Z
UID:52430-1505120400-1505149200@www.karasoncrime.com
SUMMARY:First Trial in Holly Bobo Murder
DESCRIPTION:
URL:https://www.karasoncrime.com/calendar/first-trial-in-holly-bobo-murder/
END:VEVENT
END:VCALENDAR