BEGIN:VCALENDAR
VERSION:2.0
PRODID:-//Karas on Crime - ECPv6.15.17//NONSGML v1.0//EN
CALSCALE:GREGORIAN
METHOD:PUBLISH
X-WR-CALNAME:Karas on Crime
X-ORIGINAL-URL:https://www.karasoncrime.com
X-WR-CALDESC:Events for Karas on Crime
REFRESH-INTERVAL;VALUE=DURATION:PT1H
X-Robots-Tag:noindex
X-PUBLISHED-TTL:PT1H
BEGIN:VTIMEZONE
TZID:America/New_York
BEGIN:DAYLIGHT
TZOFFSETFROM:-0500
TZOFFSETTO:-0400
TZNAME:EDT
DTSTART:20160313T070000
END:DAYLIGHT
BEGIN:STANDARD
TZOFFSETFROM:-0400
TZOFFSETTO:-0500
TZNAME:EST
DTSTART:20161106T060000
END:STANDARD
BEGIN:DAYLIGHT
TZOFFSETFROM:-0500
TZOFFSETTO:-0400
TZNAME:EDT
DTSTART:20170312T070000
END:DAYLIGHT
BEGIN:STANDARD
TZOFFSETFROM:-0400
TZOFFSETTO:-0500
TZNAME:EST
DTSTART:20171105T060000
END:STANDARD
BEGIN:DAYLIGHT
TZOFFSETFROM:-0500
TZOFFSETTO:-0400
TZNAME:EDT
DTSTART:20180311T070000
END:DAYLIGHT
BEGIN:STANDARD
TZOFFSETFROM:-0400
TZOFFSETTO:-0500
TZNAME:EST
DTSTART:20181104T060000
END:STANDARD
END:VTIMEZONE
BEGIN:VEVENT
DTSTART;TZID=America/New_York:20170608T090000
DTEND;TZID=America/New_York:20170608T100000
DTSTAMP:20260423T212321
CREATED:20170508T183352Z
LAST-MODIFIED:20170508T183352Z
UID:44498-1496912400-1496916000@www.karasoncrime.com
SUMMARY:Bampumim Teixeira Court Appearance
DESCRIPTION:This is the first court appearance since Teixeira’s hospital arraignment. He is being held without bond on two counts of murder for the May 5\, 2017 murder of two Massachusetts physicians who were engaged to be married. Richard Field\, 49\, and Lina Bolanos\, 38\, both anesthesiologists\, were found with their throats slit and their hands tied.
URL:https://www.karasoncrime.com/calendar/bampumim-teixeira-court-appearance/
END:VEVENT
BEGIN:VEVENT
DTSTART;TZID=America/New_York:20170608T090000
DTEND;TZID=America/New_York:20170608T130000
DTSTAMP:20260423T212321
CREATED:20170602T011413Z
LAST-MODIFIED:20170602T015046Z
UID:44969-1496912400-1496926800@www.karasoncrime.com
SUMMARY:Adnan Syed Appellate Argument
DESCRIPTION:A Maryland Court of Appeals will hear argument on Syed’s appeal that he be granted bail pending a new trial.
URL:https://www.karasoncrime.com/calendar/adnan-syed-appellate-argument/
END:VEVENT
END:VCALENDAR